BEGIN:VCALENDAR
VERSION:2.0
PRODID:mnr.ch
METHOD:PUBLISH
BEGIN:VEVENT
CLASS:PUBLIC
UID:5276
DTSTAMP:20260421T121302
LOCATION:34, Zionshalle, Ringwiesenstrasse 15, 8600, Dübendorf, CH
SUMMARY:Precept Bibelstudiengruppe (DE)
DESCRIPTION:Eva Rindlisbacher\n
DTSTART:20260506T090000
DTEND:20260506T110000
END:VEVENT
END:VCALENDAR