BEGIN:VCALENDAR
VERSION:2.0
PRODID:mnr.ch
METHOD:PUBLISH
BEGIN:VEVENT
CLASS:PUBLIC
UID:4372
DTSTAMP:20260421T121313
LOCATION:75, Maranatha-Haus, Zionsweg 1, 8600, Dübendorf, CH
SUMMARY:Jugendgruppe - Grillabend
DESCRIPTION:\nGrill ist eingeheizt - Essen selber mitbringen«Iitrudle» ab 19:30VERANTWORTUNG:Team 4: Anton und Niklas
DTSTART:20260501T200000
DTEND:20260501T233000
END:VEVENT
END:VCALENDAR